BEGIN:VCALENDAR
VERSION:2.0
PRODID:icalendar-ruby
CALSCALE:GREGORIAN
METHOD:PUBLISH
BEGIN:VEVENT
DTSTAMP:20260421T155128Z
UID:3-1611199@reachpnw.net
DTSTART:20261020T020000Z
DTEND:20261020T030000Z
CLASS:PUBLIC
CREATED:20260421T064157
DESCRIPTION:Revival comes through prayer.  2 Chronicoles 7:14\, "If my peo
 ple\, which are called by my name\, shall humble themselves\, and pray\, a
 nd seek my face\, and turn from their wicked ways\; then I will hear from 
 heaven\, and will forgive their sin\, and heal their land." KJV.\nCome joi
 n us\, as we come together in agreement for our nation and the nations of 
 the world.
LAST-MODIFIED:20260421T064157
LOCATION:
SUMMARY:Monday Night Prayer
URL;VALUE=URI:https://www.reachpnw.net/events/monday-night-prayer/2026-10-1
 9
ATTACH;FILENAME=prayer-2.jpg;FMTTYPE=image/jpeg:https://dq5pwpg1q8ru0.cloud
 front.net/2023/11/15/09/35/29/a084a5ba-b463-49cf-8282-8f362985a9d0/prayer-
 2.jpg
END:VEVENT
END:VCALENDAR
